BEGIN:VCALENDAR
VERSION:2.0
PRODID:-//Library Market//iCal Export//EN
BEGIN:VEVENT
SUMMARY:Ralph World Concert
UID:482180
DTSTAMP:20260423T145200Z
DTSTART:20260729T170000Z
DTEND:20260729T174500Z
LOCATION:Pacific Beach/Taylor Library, 4275 Cass St., San Diego, CA 92109,
  United States
ROOM: PB - Community Room/Taylor Gallery - Pacific Beach/Taylor
DESCRIPTION:Ralph’s World is the mega-fun music show where kids rock an
 d dance to their delight. Ralph engages his young fans with activity song
 s, story songs, dancing songs, and a healthy dose of pure silliness. The b
 and leads the audience through a rocking set of dancing, singing, and good
  old fashioned fun.
URL:https://sandiego.librarymarket.com/event/reserved-toddler-time-482180
END:VEVENT
END:VCALENDAR
