BEGIN:VCALENDAR
VERSION:2.0
PRODID:-//Library Market//iCal Export//EN
BEGIN:VEVENT
SUMMARY:Cube Quest: Problem-Solving in Action
UID:516998
DTSTAMP:20260423T000000Z
DTSTART:20260425T180000Z
DTEND:20260425T190000Z
LOCATION:Scripps Miramar Ranch Library, 10301 Scripps Lake Drive, San Dieg
 o, CA 92131, United States
ROOM: SR - Seminar Room - Scripps Miramar Ranch
DESCRIPTION:Join us at the Library for an exciting student-led STEAM serie
 s that brings problem-solving and critical thinking to life through the Ru
 bik’s Cube and other strategic games. Designed especially for elementary
 -aged students, this engaging program makes big challenges feel approachab
 le, achievable, and most importantly, fun!Led by a passionate cuber who ha
 s been solving since second grade, this program shows kids that mastering 
 the Rubik’s Cube isn’t about being “super smart”, it’s about per
 severance, strategy, and practice. Through guided instruction and hands-on
  play, participants will build logical reasoning skills, learn step-by-ste
 p problem-solving techniques, and experience the incredible confidence boo
 st that comes from conquering a challenge that once seemed impossible.
URL:https://sandiego.librarymarket.com/event/cube-quest-problem-solving-ac
 tion-516998
END:VEVENT
END:VCALENDAR
